BEGIN:VCALENDAR
VERSION:2.0
PRODID:-//Kreisverband für Gartenkultur und Landespflege - ECPv6.15.20//NONSGML v1.0//EN
CALSCALE:GREGORIAN
METHOD:PUBLISH
X-ORIGINAL-URL:https://www.gartenbauvereine-frg.de
X-WR-CALDESC:Veranstaltungen für Kreisverband für Gartenkultur und Landespflege
REFRESH-INTERVAL;VALUE=DURATION:PT1H
X-Robots-Tag:noindex
X-PUBLISHED-TTL:PT1H
BEGIN:VTIMEZONE
TZID:Europe/Paris
BEGIN:DAYLIGHT
TZOFFSETFROM:+0100
TZOFFSETTO:+0200
TZNAME:CEST
DTSTART:20230326T010000
END:DAYLIGHT
BEGIN:STANDARD
TZOFFSETFROM:+0200
TZOFFSETTO:+0100
TZNAME:CET
DTSTART:20231029T010000
END:STANDARD
BEGIN:DAYLIGHT
TZOFFSETFROM:+0100
TZOFFSETTO:+0200
TZNAME:CEST
DTSTART:20240331T010000
END:DAYLIGHT
BEGIN:STANDARD
TZOFFSETFROM:+0200
TZOFFSETTO:+0100
TZNAME:CET
DTSTART:20241027T010000
END:STANDARD
BEGIN:DAYLIGHT
TZOFFSETFROM:+0100
TZOFFSETTO:+0200
TZNAME:CEST
DTSTART:20250330T010000
END:DAYLIGHT
BEGIN:STANDARD
TZOFFSETFROM:+0200
TZOFFSETTO:+0100
TZNAME:CET
DTSTART:20251026T010000
END:STANDARD
END:VTIMEZONE
BEGIN:VEVENT
DTSTART;TZID=Europe/Paris:20240224T093000
DTEND;TZID=Europe/Paris:20240224T120000
DTSTAMP:20260422T154012
CREATED:20240206T132917Z
LAST-MODIFIED:20240223T064220Z
UID:1761-1708767000-1708776000@www.gartenbauvereine-frg.de
SUMMARY:Obstbaumschnittkurs
DESCRIPTION:Gesunder Baum – reiche Ernte!\nFrisches\, gesundes Obst aus dem eigenen Garten liegt wieder voll im Trend. Wer reiche Ernte einfahren und lange Freude an seinem Obstbaum haben will\, sollte allerdings regelmäßig zur Schere greifen. Der richtige Schnitt reguliert das Verhältnis zwischen Wachstum und Ertrag\, fördert die Qualität der Früchte und stärkt die Gesundheit des Baumes. \nNachdem der frühere Obstlehrgarten in Eckertsreut im vergangenen Jahr aufgelöst wurde\, findet der Kurs in diesem Jahr erstmalig auf privatem Grund statt. Familie Rettenbacher aus Waldkirchen stellt dafür ihren großzügigen Obstgarten zur Verfügung. In der theoretischen Einführung erläutert Referentin Alexandra Mager grundlegende Wuchsgesetze und die daraus abgeleiteten Schnitttechniken. Im anschließenden Praxisteil demonstriert sie\, wie der fachgerechte Schnitt bei Obstbäumen unterschiedlicher Art\, Größe und Baumform aussieht. Nach dieser Vorbereitung erhalten alle Teilnehmer die Gelegenheit\, das Gelernte in die Tat umzusetzen und an den Obstbäumen zu üben. Fachkundige Unterstützung erhalten sie dabei sowohl von der Referentin\, als auch von den Gartenpflegern Hans Pauli\, Sepp Kern und Bernhard Rodler. Der Kurs dauert ca. 2\,5 Stunden und kann ohne Anmeldung besucht werden. Wetterfeste Kleidung wird empfohlen! \n 
URL:https://www.gartenbauvereine-frg.de/event/obstbaumschnittkurs/
LOCATION:Obstbaumschnittkurs\, Oberleinbach 18\, Waldkirchen\, 94065
ATTACH;FMTTYPE=image/jpeg:https://www.gartenbauvereine-frg.de/wp-content/uploads/2024/02/IMG-20220226-WA0003-1.jpg
END:VEVENT
END:VCALENDAR