BEGIN:VCALENDAR
VERSION:2.0
PRODID:-//Kreisverband für Gartenkultur und Landespflege - ECPv6.15.20//NONSGML v1.0//EN
CALSCALE:GREGORIAN
METHOD:PUBLISH
X-ORIGINAL-URL:https://www.gartenbauvereine-frg.de
X-WR-CALDESC:Veranstaltungen für Kreisverband für Gartenkultur und Landespflege
REFRESH-INTERVAL;VALUE=DURATION:PT1H
X-Robots-Tag:noindex
X-PUBLISHED-TTL:PT1H
BEGIN:VTIMEZONE
TZID:Europe/Paris
BEGIN:DAYLIGHT
TZOFFSETFROM:+0100
TZOFFSETTO:+0200
TZNAME:CEST
DTSTART:20230326T010000
END:DAYLIGHT
BEGIN:STANDARD
TZOFFSETFROM:+0200
TZOFFSETTO:+0100
TZNAME:CET
DTSTART:20231029T010000
END:STANDARD
BEGIN:DAYLIGHT
TZOFFSETFROM:+0100
TZOFFSETTO:+0200
TZNAME:CEST
DTSTART:20240331T010000
END:DAYLIGHT
BEGIN:STANDARD
TZOFFSETFROM:+0200
TZOFFSETTO:+0100
TZNAME:CET
DTSTART:20241027T010000
END:STANDARD
BEGIN:DAYLIGHT
TZOFFSETFROM:+0100
TZOFFSETTO:+0200
TZNAME:CEST
DTSTART:20250330T010000
END:DAYLIGHT
BEGIN:STANDARD
TZOFFSETFROM:+0200
TZOFFSETTO:+0100
TZNAME:CET
DTSTART:20251026T010000
END:STANDARD
END:VTIMEZONE
BEGIN:VEVENT
DTSTART;TZID=Europe/Paris:20240413T093000
DTEND;TZID=Europe/Paris:20240413T120000
DTSTAMP:20260420T121417
CREATED:20240206T140335Z
LAST-MODIFIED:20240223T064603Z
UID:1792-1713000600-1713009600@www.gartenbauvereine-frg.de
SUMMARY:Obstbaum-Veredelungskurs
DESCRIPTION:Erlernen Sie die „Königsdisziplin“ des Gärtnerhandwerks mit den Gartenpflegern Sepp Kern und Hans Pauli!  \n 
URL:https://www.gartenbauvereine-frg.de/event/obstbaum-veredelungskurs/
LOCATION:Veredelungskurs\, Guldensteig 10\, Fürsteneck\, 94142
ATTACH;FMTTYPE=image/png:https://www.gartenbauvereine-frg.de/wp-content/uploads/2024/02/Bild1.png
END:VEVENT
END:VCALENDAR