BEGIN:VCALENDAR
VERSION:2.0
PRODID:-//Kreisverband für Gartenkultur und Landespflege - ECPv6.15.20//NONSGML v1.0//EN
CALSCALE:GREGORIAN
METHOD:PUBLISH
X-WR-CALNAME:Kreisverband für Gartenkultur und Landespflege
X-ORIGINAL-URL:https://www.gartenbauvereine-frg.de
X-WR-CALDESC:Veranstaltungen für Kreisverband für Gartenkultur und Landespflege
REFRESH-INTERVAL;VALUE=DURATION:PT1H
X-Robots-Tag:noindex
X-PUBLISHED-TTL:PT1H
BEGIN:VTIMEZONE
TZID:Europe/Paris
BEGIN:DAYLIGHT
TZOFFSETFROM:+0100
TZOFFSETTO:+0200
TZNAME:CEST
DTSTART:20230326T010000
END:DAYLIGHT
BEGIN:STANDARD
TZOFFSETFROM:+0200
TZOFFSETTO:+0100
TZNAME:CET
DTSTART:20231029T010000
END:STANDARD
BEGIN:DAYLIGHT
TZOFFSETFROM:+0100
TZOFFSETTO:+0200
TZNAME:CEST
DTSTART:20240331T010000
END:DAYLIGHT
BEGIN:STANDARD
TZOFFSETFROM:+0200
TZOFFSETTO:+0100
TZNAME:CET
DTSTART:20241027T010000
END:STANDARD
BEGIN:DAYLIGHT
TZOFFSETFROM:+0100
TZOFFSETTO:+0200
TZNAME:CEST
DTSTART:20250330T010000
END:DAYLIGHT
BEGIN:STANDARD
TZOFFSETFROM:+0200
TZOFFSETTO:+0100
TZNAME:CET
DTSTART:20251026T010000
END:STANDARD
END:VTIMEZONE
BEGIN:VEVENT
DTSTART;VALUE=DATE:20240914
DTEND;VALUE=DATE:20240915
DTSTAMP:20260419T142248
CREATED:20240206T143525Z
LAST-MODIFIED:20240419T085431Z
UID:1812-1726272000-1726358399@www.gartenbauvereine-frg.de
SUMMARY:Lehrfahrt für Vereinsführungskräfte
DESCRIPTION:Im Rahmen unserer diesjährigen Lehrfahrt besuchen wir die Landesgartenschau in Kirchheim bei München und machen einen Abstecher zum Bayerischen Obstbauzentrum in Hallbergmoos. \nNähere Infos zum Programm und zur Anmeldung finden Sie hier.
URL:https://www.gartenbauvereine-frg.de/event/lehrfahrt-fuer-vereinsfuehrungskraefte/
LOCATION:Landesgartenschau Kirchheim\, Hauptstraße 48\, Kirchheim bei München\, 85551
ATTACH;FMTTYPE=image/jpeg:https://www.gartenbauvereine-frg.de/wp-content/uploads/2024/02/logo-zur-landesgartenschau-ist-da.jpg
END:VEVENT
END:VCALENDAR