BEGIN:VCALENDAR
VERSION:2.0
PRODID:-//Kreisverband für Gartenkultur und Landespflege - ECPv6.15.20//NONSGML v1.0//EN
CALSCALE:GREGORIAN
METHOD:PUBLISH
X-WR-CALNAME:Kreisverband für Gartenkultur und Landespflege
X-ORIGINAL-URL:https://www.gartenbauvereine-frg.de
X-WR-CALDESC:Veranstaltungen für Kreisverband für Gartenkultur und Landespflege
REFRESH-INTERVAL;VALUE=DURATION:PT1H
X-Robots-Tag:noindex
X-PUBLISHED-TTL:PT1H
BEGIN:VTIMEZONE
TZID:Europe/Berlin
BEGIN:DAYLIGHT
TZOFFSETFROM:+0100
TZOFFSETTO:+0200
TZNAME:CEST
DTSTART:20240331T010000
END:DAYLIGHT
BEGIN:STANDARD
TZOFFSETFROM:+0200
TZOFFSETTO:+0100
TZNAME:CET
DTSTART:20241027T010000
END:STANDARD
BEGIN:DAYLIGHT
TZOFFSETFROM:+0100
TZOFFSETTO:+0200
TZNAME:CEST
DTSTART:20250330T010000
END:DAYLIGHT
BEGIN:STANDARD
TZOFFSETFROM:+0200
TZOFFSETTO:+0100
TZNAME:CET
DTSTART:20251026T010000
END:STANDARD
BEGIN:DAYLIGHT
TZOFFSETFROM:+0100
TZOFFSETTO:+0200
TZNAME:CEST
DTSTART:20260329T010000
END:DAYLIGHT
BEGIN:STANDARD
TZOFFSETFROM:+0200
TZOFFSETTO:+0100
TZNAME:CET
DTSTART:20261025T010000
END:STANDARD
END:VTIMEZONE
BEGIN:VEVENT
DTSTART;TZID=Europe/Berlin:20250307T190000
DTEND;TZID=Europe/Berlin:20250307T220000
DTSTAMP:20260419T212009
CREATED:20241210T072851Z
LAST-MODIFIED:20241210T072935Z
UID:3009-1741374000-1741384800@www.gartenbauvereine-frg.de
SUMMARY:Mitgliederversammlung
DESCRIPTION:In unserer alljährlichen Mitgliederversammlung wollen wir gemeinsam auf das vergangene Jahr zurückblicken und alle unsere Mitlglieder über aktuelle und für die Zukunft geplante Projekte des Kreisverbandes informieren.
URL:https://www.gartenbauvereine-frg.de/event/mitgliederversammlung/
LOCATION:Gasthof Boxleitenmühle\, Werenain 47\, Waldkirchen\, Bayern\, 94065\, Germany
ATTACH;FMTTYPE=image/png:https://www.gartenbauvereine-frg.de/wp-content/uploads/2024/02/logo-KV-gruen-bunt-neu-2019-800px.png
END:VEVENT
END:VCALENDAR