BEGIN:VCALENDAR
VERSION:2.0
PRODID:-//Kreisverband für Gartenkultur und Landespflege - ECPv6.15.20//NONSGML v1.0//EN
CALSCALE:GREGORIAN
METHOD:PUBLISH
X-ORIGINAL-URL:https://www.gartenbauvereine-frg.de
X-WR-CALDESC:Veranstaltungen für Kreisverband für Gartenkultur und Landespflege
REFRESH-INTERVAL;VALUE=DURATION:PT1H
X-Robots-Tag:noindex
X-PUBLISHED-TTL:PT1H
BEGIN:VTIMEZONE
TZID:Europe/Berlin
BEGIN:DAYLIGHT
TZOFFSETFROM:+0100
TZOFFSETTO:+0200
TZNAME:CEST
DTSTART:20240331T010000
END:DAYLIGHT
BEGIN:STANDARD
TZOFFSETFROM:+0200
TZOFFSETTO:+0100
TZNAME:CET
DTSTART:20241027T010000
END:STANDARD
BEGIN:DAYLIGHT
TZOFFSETFROM:+0100
TZOFFSETTO:+0200
TZNAME:CEST
DTSTART:20250330T010000
END:DAYLIGHT
BEGIN:STANDARD
TZOFFSETFROM:+0200
TZOFFSETTO:+0100
TZNAME:CET
DTSTART:20251026T010000
END:STANDARD
BEGIN:DAYLIGHT
TZOFFSETFROM:+0100
TZOFFSETTO:+0200
TZNAME:CEST
DTSTART:20260329T010000
END:DAYLIGHT
BEGIN:STANDARD
TZOFFSETFROM:+0200
TZOFFSETTO:+0100
TZNAME:CET
DTSTART:20261025T010000
END:STANDARD
END:VTIMEZONE
BEGIN:VEVENT
DTSTART;TZID=Europe/Berlin:20250510T140000
DTEND;TZID=Europe/Berlin:20250510T160000
DTSTAMP:20260420T020915
CREATED:20241210T082546Z
LAST-MODIFIED:20241210T095345Z
UID:3017-1746885600-1746892800@www.gartenbauvereine-frg.de
SUMMARY:Kräuterwanderung
DESCRIPTION:Bei einer kleinen Wanderung rund um die Alte Schule in Heindlschlag führt uns Kräuterexpertin Karin Autengruber die heimische Kräuterwelt und ihre Verwendungsmöglichkeiten vor Augen. \nUm die Veranstaltung besser planen zu können\, wird um vorherige Anmeldung gebeten.
URL:https://www.gartenbauvereine-frg.de/event/kraeuterwanderung/
LOCATION:Rannariedlerst. 24\, 94118 Heindlschlag\, Rannariedlerstr. 24\, Heindlschlag\, Bayern\, 94118\, Deutschland
ATTACH;FMTTYPE=image/jpeg:https://www.gartenbauvereine-frg.de/wp-content/uploads/2024/12/img_0095-scaled-1.jpg
END:VEVENT
END:VCALENDAR