BEGIN:VCALENDAR
VERSION:2.0
PRODID:-//Kreisverband für Gartenkultur und Landespflege - ECPv6.15.20//NONSGML v1.0//EN
CALSCALE:GREGORIAN
METHOD:PUBLISH
X-WR-CALNAME:Kreisverband für Gartenkultur und Landespflege
X-ORIGINAL-URL:https://www.gartenbauvereine-frg.de
X-WR-CALDESC:Veranstaltungen für Kreisverband für Gartenkultur und Landespflege
REFRESH-INTERVAL;VALUE=DURATION:PT1H
X-Robots-Tag:noindex
X-PUBLISHED-TTL:PT1H
BEGIN:VTIMEZONE
TZID:Europe/Berlin
BEGIN:DAYLIGHT
TZOFFSETFROM:+0100
TZOFFSETTO:+0200
TZNAME:CEST
DTSTART:20250330T010000
END:DAYLIGHT
BEGIN:STANDARD
TZOFFSETFROM:+0200
TZOFFSETTO:+0100
TZNAME:CET
DTSTART:20251026T010000
END:STANDARD
BEGIN:DAYLIGHT
TZOFFSETFROM:+0100
TZOFFSETTO:+0200
TZNAME:CEST
DTSTART:20260329T010000
END:DAYLIGHT
BEGIN:STANDARD
TZOFFSETFROM:+0200
TZOFFSETTO:+0100
TZNAME:CET
DTSTART:20261025T010000
END:STANDARD
BEGIN:DAYLIGHT
TZOFFSETFROM:+0100
TZOFFSETTO:+0200
TZNAME:CEST
DTSTART:20270328T010000
END:DAYLIGHT
BEGIN:STANDARD
TZOFFSETFROM:+0200
TZOFFSETTO:+0100
TZNAME:CET
DTSTART:20271031T010000
END:STANDARD
END:VTIMEZONE
BEGIN:VEVENT
DTSTART;TZID=Europe/Berlin:20260221T093000
DTEND;TZID=Europe/Berlin:20260221T120000
DTSTAMP:20260419T162050
CREATED:20251209T082212Z
LAST-MODIFIED:20251209T082212Z
UID:3696-1771666200-1771675200@www.gartenbauvereine-frg.de
SUMMARY:Obstbaumschnittkurs
DESCRIPTION:In diesem Jahr findet unser Obstbaumschnittkurs erstmalig im neuen Kreis-Obstlehrgarten Geyersberg statt. Für die theoretische Einführung treffen wir uns zunächst in der GeYerei (Geyersberger Straße 34\, 94078 Freyung).
URL:https://www.gartenbauvereine-frg.de/event/obstbaumschnittkurs-3/
LOCATION:Kreis-Obstlehrgarten Geyersberg\, Geyersberg\, Freyung\, 94078\, Germany
ATTACH;FMTTYPE=image/jpeg:https://www.gartenbauvereine-frg.de/wp-content/uploads/2025/02/IMG_2872-scaled.jpg
END:VEVENT
END:VCALENDAR