BEGIN:VCALENDAR
VERSION:2.0
PRODID:-//Kreisverband für Gartenkultur und Landespflege - ECPv6.15.20//NONSGML v1.0//EN
CALSCALE:GREGORIAN
METHOD:PUBLISH
X-ORIGINAL-URL:https://www.gartenbauvereine-frg.de
X-WR-CALDESC:Veranstaltungen für Kreisverband für Gartenkultur und Landespflege
REFRESH-INTERVAL;VALUE=DURATION:PT1H
X-Robots-Tag:noindex
X-PUBLISHED-TTL:PT1H
BEGIN:VTIMEZONE
TZID:Europe/Berlin
BEGIN:DAYLIGHT
TZOFFSETFROM:+0100
TZOFFSETTO:+0200
TZNAME:CEST
DTSTART:20250330T010000
END:DAYLIGHT
BEGIN:STANDARD
TZOFFSETFROM:+0200
TZOFFSETTO:+0100
TZNAME:CET
DTSTART:20251026T010000
END:STANDARD
BEGIN:DAYLIGHT
TZOFFSETFROM:+0100
TZOFFSETTO:+0200
TZNAME:CEST
DTSTART:20260329T010000
END:DAYLIGHT
BEGIN:STANDARD
TZOFFSETFROM:+0200
TZOFFSETTO:+0100
TZNAME:CET
DTSTART:20261025T010000
END:STANDARD
BEGIN:DAYLIGHT
TZOFFSETFROM:+0100
TZOFFSETTO:+0200
TZNAME:CEST
DTSTART:20270328T010000
END:DAYLIGHT
BEGIN:STANDARD
TZOFFSETFROM:+0200
TZOFFSETTO:+0100
TZNAME:CET
DTSTART:20271031T010000
END:STANDARD
END:VTIMEZONE
BEGIN:VEVENT
DTSTART;TZID=Europe/Berlin:20260411T093000
DTEND;TZID=Europe/Berlin:20260411T120000
DTSTAMP:20260421T120525
CREATED:20251209T084922Z
LAST-MODIFIED:20251209T085017Z
UID:3705-1775899800-1775908800@www.gartenbauvereine-frg.de
SUMMARY:Veredelungskurs
DESCRIPTION:Das Veredeln von Obstbäumen gilt seit jeher als „Königsdisziplin“ des Gärtnerhandwerks und doch ist es bei weitem nicht so schwierig\, wie es auf den ersten Blick den Anschein hat. Erlernen auch Sie das Veredeln bei unserem Kurs in Fürsteneck!
URL:https://www.gartenbauvereine-frg.de/event/veredelungskurs/
LOCATION:Veredelungskurs\, Guldensteig 10\, Fürsteneck\, 94142
ATTACH;FMTTYPE=image/jpeg:https://www.gartenbauvereine-frg.de/wp-content/uploads/2025/04/IMG_3267-scaled.jpg
END:VEVENT
END:VCALENDAR