BEGIN:VCALENDAR
VERSION:2.0
PRODID:-//Kreisverband für Gartenkultur und Landespflege - ECPv6.15.20//NONSGML v1.0//EN
CALSCALE:GREGORIAN
METHOD:PUBLISH
X-WR-CALNAME:Kreisverband für Gartenkultur und Landespflege
X-ORIGINAL-URL:https://www.gartenbauvereine-frg.de
X-WR-CALDESC:Veranstaltungen für Kreisverband für Gartenkultur und Landespflege
REFRESH-INTERVAL;VALUE=DURATION:PT1H
X-Robots-Tag:noindex
X-PUBLISHED-TTL:PT1H
BEGIN:VTIMEZONE
TZID:Europe/Berlin
BEGIN:DAYLIGHT
TZOFFSETFROM:+0100
TZOFFSETTO:+0200
TZNAME:CEST
DTSTART:20240331T010000
END:DAYLIGHT
BEGIN:STANDARD
TZOFFSETFROM:+0200
TZOFFSETTO:+0100
TZNAME:CET
DTSTART:20241027T010000
END:STANDARD
BEGIN:DAYLIGHT
TZOFFSETFROM:+0100
TZOFFSETTO:+0200
TZNAME:CEST
DTSTART:20250330T010000
END:DAYLIGHT
BEGIN:STANDARD
TZOFFSETFROM:+0200
TZOFFSETTO:+0100
TZNAME:CET
DTSTART:20251026T010000
END:STANDARD
BEGIN:DAYLIGHT
TZOFFSETFROM:+0100
TZOFFSETTO:+0200
TZNAME:CEST
DTSTART:20260329T010000
END:DAYLIGHT
BEGIN:STANDARD
TZOFFSETFROM:+0200
TZOFFSETTO:+0100
TZNAME:CET
DTSTART:20261025T010000
END:STANDARD
END:VTIMEZONE
BEGIN:VEVENT
DTSTART;VALUE=DATE:20250830
DTEND;VALUE=DATE:20250831
DTSTAMP:20260420T035539
CREATED:20241210T103348Z
LAST-MODIFIED:20241210T141354Z
UID:3035-1756512000-1756598399@www.gartenbauvereine-frg.de
SUMMARY:Lehrfahrt
DESCRIPTION:Auf unserer Lehrfahrt besichtigen wir die Oberösterreichische Landesgartenschau in Schärding und den Innviertler Gewürzbetrieb Schneiderbauer.
URL:https://www.gartenbauvereine-frg.de/event/lehrfahrt/
LOCATION:Oberöstereichische LGS Schärdig\, Linzerstraße 58\, Schärding\, Oberösterreich\, 4780\, Austria
ATTACH;FMTTYPE=image/jpeg:https://www.gartenbauvereine-frg.de/wp-content/uploads/2024/12/Schaerding.jpg
END:VEVENT
END:VCALENDAR