BEGIN:VCALENDAR
VERSION:2.0
PRODID:-//Kreisverband für Gartenkultur und Landespflege - ECPv6.15.20//NONSGML v1.0//EN
CALSCALE:GREGORIAN
METHOD:PUBLISH
X-WR-CALNAME:Kreisverband für Gartenkultur und Landespflege
X-ORIGINAL-URL:https://www.gartenbauvereine-frg.de
X-WR-CALDESC:Veranstaltungen für Kreisverband für Gartenkultur und Landespflege
REFRESH-INTERVAL;VALUE=DURATION:PT1H
X-Robots-Tag:noindex
X-PUBLISHED-TTL:PT1H
BEGIN:VTIMEZONE
TZID:Europe/Berlin
BEGIN:DAYLIGHT
TZOFFSETFROM:+0100
TZOFFSETTO:+0200
TZNAME:CEST
DTSTART:20250330T010000
END:DAYLIGHT
BEGIN:STANDARD
TZOFFSETFROM:+0200
TZOFFSETTO:+0100
TZNAME:CET
DTSTART:20251026T010000
END:STANDARD
BEGIN:DAYLIGHT
TZOFFSETFROM:+0100
TZOFFSETTO:+0200
TZNAME:CEST
DTSTART:20260329T010000
END:DAYLIGHT
BEGIN:STANDARD
TZOFFSETFROM:+0200
TZOFFSETTO:+0100
TZNAME:CET
DTSTART:20261025T010000
END:STANDARD
BEGIN:DAYLIGHT
TZOFFSETFROM:+0100
TZOFFSETTO:+0200
TZNAME:CEST
DTSTART:20270328T010000
END:DAYLIGHT
BEGIN:STANDARD
TZOFFSETFROM:+0200
TZOFFSETTO:+0100
TZNAME:CET
DTSTART:20271031T010000
END:STANDARD
END:VTIMEZONE
BEGIN:VEVENT
DTSTART;TZID=Europe/Berlin:20260613T090000
DTEND;TZID=Europe/Berlin:20260613T120000
DTSTAMP:20260423T122859
CREATED:20251209T091903Z
LAST-MODIFIED:20251209T091903Z
UID:3719-1781341200-1781352000@www.gartenbauvereine-frg.de
SUMMARY:Sensenkurs
DESCRIPTION:Das traditionelle\, aber nur noch von wenigen beherrschte Handwerk des Sensenmähens erfreut sich wieder wachsender Beliebtheit. Gartenpfleger Hans Pauli zeigt uns in diesem Kurs\, wie das Sensen und Dengeln funktioniert.
URL:https://www.gartenbauvereine-frg.de/event/sensenkurs/
LOCATION:Kreis-Obstlehrgarten Geyersberg\, Geyersberg\, Freyung\, 94078\, Germany
END:VEVENT
BEGIN:VEVENT
DTSTART;TZID=Europe/Berlin:20260615T170000
DTEND;TZID=Europe/Berlin:20260615T190000
DTSTAMP:20260423T122859
CREATED:20251209T092726Z
LAST-MODIFIED:20251209T092726Z
UID:3721-1781542800-1781550000@www.gartenbauvereine-frg.de
SUMMARY:1. Pflegetag im Kreis-Obstlehrgarten
DESCRIPTION:GV Hinterschmiding und Zenting
URL:https://www.gartenbauvereine-frg.de/event/1-pflegetag-im-kreis-obstlehrgarten/
LOCATION:Kreis-Obstlehrgarten Geyersberg\, Geyersberg\, Freyung\, 94078\, Germany
ATTACH;FMTTYPE=image/jpeg:https://www.gartenbauvereine-frg.de/wp-content/uploads/2025/12/IMG_3893-scaled.jpg
END:VEVENT
BEGIN:VEVENT
DTSTART;TZID=Europe/Berlin:20260628T100000
DTEND;TZID=Europe/Berlin:20260628T170000
DTSTAMP:20260423T122859
CREATED:20251209T093122Z
LAST-MODIFIED:20251209T112058Z
UID:3724-1782640800-1782666000@www.gartenbauvereine-frg.de
SUMMARY:Tag der offenen Gartentür
DESCRIPTION:Der Tag der offenen Gartentür im Landkreis Freyung-Grafenau findet heuer im Bereich Grafenau statt.
URL:https://www.gartenbauvereine-frg.de/event/tag-der-offenen-gartentuer-3/
LOCATION:Grafenau\, Grafenau
ATTACH;FMTTYPE=image/png:https://www.gartenbauvereine-frg.de/wp-content/uploads/2024/03/pages_from_logotext_1.png
END:VEVENT
END:VCALENDAR